BEGIN:VCALENDAR
VERSION:2.0
PRODID:-//NetAuktion//NONSGML NetAuktion//SV
METHOD:PUBLISH
BEGIN:VEVENT
UID:20260421T103136-1724759050-netauktion.se
DTSTAMP:20260421T103136
DTSTART:20151123T034000
DTEND:20151123T034300
SUMMARY:Netauktion objekt 2474-007 Auktionspåminnelse
DESCRIPTION:Länk till objektet du var intresserad av: https://staging.netauktion.se/auktion/produkt/palldragare-72
END:VEVENT
END:VCALENDAR
