BEGIN:VCALENDAR
VERSION:2.0
PRODID:-//NetAuktion//NONSGML NetAuktion//SV
METHOD:PUBLISH
BEGIN:VEVENT
UID:20260421T104458-467155661-netauktion.se
DTSTAMP:20260421T104458
DTSTART:20151123T041100
DTEND:20151123T041400
SUMMARY:Netauktion objekt 2474-042 Auktionspåminnelse
DESCRIPTION:Länk till objektet du var intresserad av: https://staging.netauktion.se/auktion/produkt/trappgaende-sackkarra
END:VEVENT
END:VCALENDAR
