BEGIN:VCALENDAR
VERSION:2.0
PRODID:-//NetAuktion//NONSGML NetAuktion//SV
METHOD:PUBLISH
BEGIN:VEVENT
UID:20260421T104535-200108797-netauktion.se
DTSTAMP:20260421T104535
DTSTART:20151123T041400
DTEND:20151123T041700
SUMMARY:Netauktion objekt 2474-045 Auktionspåminnelse
DESCRIPTION:Länk till objektet du var intresserad av: https://staging.netauktion.se/auktion/produkt/vagnar-7
END:VEVENT
END:VCALENDAR
