BEGIN:VCALENDAR
VERSION:2.0
PRODID:-//NetAuktion//NONSGML NetAuktion//SV
METHOD:PUBLISH
BEGIN:VEVENT
UID:20260421T104533-1506852962-netauktion.se
DTSTAMP:20260421T104533
DTSTART:20151123T042000
DTEND:20151123T042300
SUMMARY:Netauktion objekt 2474-051 Auktionspåminnelse
DESCRIPTION:Länk till objektet du var intresserad av: https://staging.netauktion.se/auktion/produkt/solarium-hapro-2
END:VEVENT
END:VCALENDAR
