BEGIN:VCALENDAR
VERSION:2.0
PRODID:-//NetAuktion//NONSGML NetAuktion//SV
METHOD:PUBLISH
BEGIN:VEVENT
UID:20260421T103031-1371505951-netauktion.se
DTSTAMP:20260421T103031
DTSTART:20151123T042200
DTEND:20151123T042500
SUMMARY:Netauktion objekt 2474-053 Auktionspåminnelse
DESCRIPTION:Länk till objektet du var intresserad av: https://staging.netauktion.se/auktion/produkt/tv-viewsonic-2
END:VEVENT
END:VCALENDAR
