BEGIN:VCALENDAR
VERSION:2.0
PRODID:-//NetAuktion//NONSGML NetAuktion//SV
METHOD:PUBLISH
BEGIN:VEVENT
UID:20260421T103136-41693581-netauktion.se
DTSTAMP:20260421T103136
DTSTART:20151130T175900
DTEND:20151130T180200
SUMMARY:Netauktion objekt 2465-109 Auktionspåminnelse
DESCRIPTION:Länk till objektet du var intresserad av: https://staging.netauktion.se/auktion/produkt/vattenvinda
END:VEVENT
END:VCALENDAR
