BEGIN:VCALENDAR
VERSION:2.0
PRODID:-//NetAuktion//NONSGML NetAuktion//SV
METHOD:PUBLISH
BEGIN:VEVENT
UID:20260421T104426-1102826550-netauktion.se
DTSTAMP:20260421T104426
DTSTART:20151127T025300
DTEND:20151127T025600
SUMMARY:Netauktion objekt 2465-137 Auktionspåminnelse
DESCRIPTION:Länk till objektet du var intresserad av: https://staging.netauktion.se/auktion/produkt/vattenbad-electrolux-4
END:VEVENT
END:VCALENDAR
