BEGIN:VCALENDAR
VERSION:2.0
PRODID:-//NetAuktion//NONSGML NetAuktion//SV
METHOD:PUBLISH
BEGIN:VEVENT
UID:20260421T103137-1021028856-netauktion.se
DTSTAMP:20260421T103137
DTSTART:20151127T030500
DTEND:20151127T030800
SUMMARY:Netauktion objekt 2465-149 Auktionspåminnelse
DESCRIPTION:Länk till objektet du var intresserad av: https://staging.netauktion.se/auktion/produkt/ljus-i-jul
END:VEVENT
END:VCALENDAR
