BEGIN:VCALENDAR
VERSION:2.0
PRODID:-//NetAuktion//NONSGML NetAuktion//SV
METHOD:PUBLISH
BEGIN:VEVENT
UID:20260421T104427-188121541-netauktion.se
DTSTAMP:20260421T104427
DTSTART:20151230T022700
DTEND:20151230T023000
SUMMARY:Netauktion objekt 2468-026 Auktionspåminnelse
DESCRIPTION:Länk till objektet du var intresserad av: https://staging.netauktion.se/auktion/produkt/lackhorna-med-farger-och-medel
END:VEVENT
END:VCALENDAR
