BEGIN:VCALENDAR
VERSION:2.0
PRODID:-//NetAuktion//NONSGML NetAuktion//SV
METHOD:PUBLISH
BEGIN:VEVENT
UID:20260421T102951-807628534-netauktion.se
DTSTAMP:20260421T102951
DTSTART:20151230T022700
DTEND:20151230T023000
SUMMARY:Netauktion objekt 2468-029 Auktionspåminnelse
DESCRIPTION:Länk till objektet du var intresserad av: https://staging.netauktion.se/auktion/produkt/5st-hyllor-med-innehall
END:VEVENT
END:VCALENDAR
