BEGIN:VCALENDAR
VERSION:2.0
PRODID:-//NetAuktion//NONSGML NetAuktion//SV
METHOD:PUBLISH
BEGIN:VEVENT
UID:20260421T104616-1174285840-netauktion.se
DTSTAMP:20260421T104616
DTSTART:20151230T023000
DTEND:20151230T023300
SUMMARY:Netauktion objekt 2468-032 Auktionspåminnelse
DESCRIPTION:Länk till objektet du var intresserad av: https://staging.netauktion.se/auktion/produkt/skivmaterial-i-stall
END:VEVENT
END:VCALENDAR
