BEGIN:VCALENDAR
VERSION:2.0
PRODID:-//NetAuktion//NONSGML NetAuktion//SV
METHOD:PUBLISH
BEGIN:VEVENT
UID:20260421T104608-506613785-netauktion.se
DTSTAMP:20260421T104608
DTSTART:20151230T022200
DTEND:20151230T022500
SUMMARY:Netauktion objekt 2468-037 Auktionspåminnelse
DESCRIPTION:Länk till objektet du var intresserad av: https://staging.netauktion.se/auktion/produkt/3st-garderober-4
END:VEVENT
END:VCALENDAR
