BEGIN:VCALENDAR
VERSION:2.0
PRODID:-//NetAuktion//NONSGML NetAuktion//SV
METHOD:PUBLISH
BEGIN:VEVENT
UID:20260421T104322-1737040977-netauktion.se
DTSTAMP:20260421T104322
DTSTART:20080829T014100
DTEND:20080829T014400
SUMMARY:Netauktion objekt 0004-024 Auktionspåminnelse
DESCRIPTION:Länk till objektet du var intresserad av: https://staging.netauktion.se/auktion/produkt/lek-och-spel-2
END:VEVENT
END:VCALENDAR
