BEGIN:VCALENDAR
VERSION:2.0
PRODID:-//NetAuktion//NONSGML NetAuktion//SV
METHOD:PUBLISH
BEGIN:VEVENT
UID:20260421T104456-97362413-netauktion.se
DTSTAMP:20260421T104456
DTSTART:20151230T025500
DTEND:20151230T025800
SUMMARY:Netauktion objekt 2492-002 Auktionspåminnelse
DESCRIPTION:Länk till objektet du var intresserad av: https://staging.netauktion.se/auktion/produkt/etikettlinje-nilpeter-200
END:VEVENT
END:VCALENDAR
