BEGIN:VCALENDAR
VERSION:2.0
PRODID:-//NetAuktion//NONSGML NetAuktion//SV
METHOD:PUBLISH
BEGIN:VEVENT
UID:20260421T103135-2113294212-netauktion.se
DTSTAMP:20260421T103135
DTSTART:20151230T013400
DTEND:20151230T013700
SUMMARY:Netauktion objekt 2482-002 Auktionspåminnelse
DESCRIPTION:Länk till objektet du var intresserad av: https://staging.netauktion.se/auktion/produkt/kugghjuls-och-skivfrasar
END:VEVENT
END:VCALENDAR
