BEGIN:VCALENDAR
VERSION:2.0
PRODID:-//NetAuktion//NONSGML NetAuktion//SV
METHOD:PUBLISH
BEGIN:VEVENT
UID:20260421T104634-1393260795-netauktion.se
DTSTAMP:20260421T104634
DTSTART:20151230T013700
DTEND:20151230T014000
SUMMARY:Netauktion objekt 2482-006 Auktionspåminnelse
DESCRIPTION:Länk till objektet du var intresserad av: https://staging.netauktion.se/auktion/produkt/kedjor-kedjelas-kullagerhus-och-fettsprutor
END:VEVENT
END:VCALENDAR
