BEGIN:VCALENDAR
VERSION:2.0
PRODID:-//NetAuktion//NONSGML NetAuktion//SV
METHOD:PUBLISH
BEGIN:VEVENT
UID:20260421T103313-1271665639-netauktion.se
DTSTAMP:20260421T103313
DTSTART:20151230T014800
DTEND:20151230T015100
SUMMARY:Netauktion objekt 2482-019 Auktionspåminnelse
DESCRIPTION:Länk till objektet du var intresserad av: https://staging.netauktion.se/auktion/produkt/rundgangsprovare-och-indikatorstativ-med-klockor
END:VEVENT
END:VCALENDAR
