BEGIN:VCALENDAR
VERSION:2.0
PRODID:-//NetAuktion//NONSGML NetAuktion//SV
METHOD:PUBLISH
BEGIN:VEVENT
UID:20260425T123611-1221666955-netauktion.se
DTSTAMP:20260425T123611
DTSTART:20160719T023100
DTEND:20160719T023400
SUMMARY:Netauktion objekt 2505-016 Auktionspåminnelse
DESCRIPTION:Länk till objektet du var intresserad av: https://staging.netauktion.se/auktion/produkt/panthera-mc-hjalm-storlek-xs-butikspris-2700-3
END:VEVENT
END:VCALENDAR
