BEGIN:VCALENDAR
VERSION:2.0
PRODID:-//NetAuktion//NONSGML NetAuktion//SV
METHOD:PUBLISH
BEGIN:VEVENT
UID:20260421T104354-2114139851-netauktion.se
DTSTAMP:20260421T104354
DTSTART:20160330T020000
DTEND:20160330T020300
SUMMARY:Netauktion objekt 2520-001 Auktionspåminnelse
DESCRIPTION:Länk till objektet du var intresserad av: https://staging.netauktion.se/auktion/produkt/soffa-mayfair-fran-artwood
END:VEVENT
END:VCALENDAR
