BEGIN:VCALENDAR
VERSION:2.0
PRODID:-//NetAuktion//NONSGML NetAuktion//SV
METHOD:PUBLISH
BEGIN:VEVENT
UID:20260421T102933-604977031-netauktion.se
DTSTAMP:20260421T102933
DTSTART:20160129T023500
DTEND:20160129T023800
SUMMARY:Netauktion objekt 2274-084 Auktionspåminnelse
DESCRIPTION:Länk till objektet du var intresserad av: https://staging.netauktion.se/auktion/produkt/kepsar-50st
END:VEVENT
END:VCALENDAR
