BEGIN:VCALENDAR
VERSION:2.0
PRODID:-//NetAuktion//NONSGML NetAuktion//SV
METHOD:PUBLISH
BEGIN:VEVENT
UID:20260421T103135-1257220072-netauktion.se
DTSTAMP:20260421T103135
DTSTART:20160129T024800
DTEND:20160129T025100
SUMMARY:Netauktion objekt 2274-091 Auktionspåminnelse
DESCRIPTION:Länk till objektet du var intresserad av: https://staging.netauktion.se/auktion/produkt/snowboard-endeavor-156cm
END:VEVENT
END:VCALENDAR
