BEGIN:VCALENDAR
VERSION:2.0
PRODID:-//NetAuktion//NONSGML NetAuktion//SV
METHOD:PUBLISH
BEGIN:VEVENT
UID:20260421T104601-2126457618-netauktion.se
DTSTAMP:20260421T104601
DTSTART:20160129T025100
DTEND:20160129T025400
SUMMARY:Netauktion objekt 2274-094 Auktionspåminnelse
DESCRIPTION:Länk till objektet du var intresserad av: https://staging.netauktion.se/auktion/produkt/snowboard-endeavor-161cm-3
END:VEVENT
END:VCALENDAR
