BEGIN:VCALENDAR
VERSION:2.0
PRODID:-//NetAuktion//NONSGML NetAuktion//SV
METHOD:PUBLISH
BEGIN:VEVENT
UID:20260421T104622-1922093077-netauktion.se
DTSTAMP:20260421T104622
DTSTART:20160129T025700
DTEND:20160129T030000
SUMMARY:Netauktion objekt 2274-095 Auktionspåminnelse
DESCRIPTION:Länk till objektet du var intresserad av: https://staging.netauktion.se/auktion/produkt/snowboard-technine-147cm
END:VEVENT
END:VCALENDAR
