BEGIN:VCALENDAR
VERSION:2.0
PRODID:-//NetAuktion//NONSGML NetAuktion//SV
METHOD:PUBLISH
BEGIN:VEVENT
UID:20260421T103138-696980114-netauktion.se
DTSTAMP:20260421T103138
DTSTART:20160129T030800
DTEND:20160129T031100
SUMMARY:Netauktion objekt 2274-111 Auktionspåminnelse
DESCRIPTION:Länk till objektet du var intresserad av: https://staging.netauktion.se/auktion/produkt/5st-snowboards-inkl-skidbag
END:VEVENT
END:VCALENDAR
