BEGIN:VCALENDAR
VERSION:2.0
PRODID:-//NetAuktion//NONSGML NetAuktion//SV
METHOD:PUBLISH
BEGIN:VEVENT
UID:20260421T104533-1057949453-netauktion.se
DTSTAMP:20260421T104533
DTSTART:20160426T043200
DTEND:20160426T043500
SUMMARY:Netauktion objekt 2400-016 Auktionspåminnelse
DESCRIPTION:Länk till objektet du var intresserad av: https://staging.netauktion.se/auktion/produkt/kaffe-maskin-krups
END:VEVENT
END:VCALENDAR
