BEGIN:VCALENDAR
VERSION:2.0
PRODID:-//NetAuktion//NONSGML NetAuktion//SV
METHOD:PUBLISH
BEGIN:VEVENT
UID:20260421T104536-333616192-netauktion.se
DTSTAMP:20260421T104536
DTSTART:20160330T014500
DTEND:20160330T014800
SUMMARY:Netauktion objekt 2468-050 Auktionspåminnelse
DESCRIPTION:Länk till objektet du var intresserad av: https://staging.netauktion.se/auktion/produkt/oljemalning-ludvig-richarde-92-1892
END:VEVENT
END:VCALENDAR
