BEGIN:VCALENDAR
VERSION:2.0
PRODID:-//NetAuktion//NONSGML NetAuktion//SV
METHOD:PUBLISH
BEGIN:VEVENT
UID:20260421T104619-20037518-netauktion.se
DTSTAMP:20260421T104619
DTSTART:20160426T043500
DTEND:20160426T043800
SUMMARY:Netauktion objekt 2400-021 Auktionspåminnelse
DESCRIPTION:Länk till objektet du var intresserad av: https://staging.netauktion.se/auktion/produkt/kaffemaskin-nespresso
END:VEVENT
END:VCALENDAR
