BEGIN:VCALENDAR
VERSION:2.0
PRODID:-//NetAuktion//NONSGML NetAuktion//SV
METHOD:PUBLISH
BEGIN:VEVENT
UID:20260421T104600-94451736-netauktion.se
DTSTAMP:20260421T104600
DTSTART:20160426T043800
DTEND:20160426T044100
SUMMARY:Netauktion objekt 2400-024 Auktionspåminnelse
DESCRIPTION:Länk till objektet du var intresserad av: https://staging.netauktion.se/auktion/produkt/whiteboard-tavla-och-projektorduk
END:VEVENT
END:VCALENDAR
