BEGIN:VCALENDAR
VERSION:2.0
PRODID:-//NetAuktion//NONSGML NetAuktion//SV
METHOD:PUBLISH
BEGIN:VEVENT
UID:20260421T104456-318454301-netauktion.se
DTSTAMP:20260421T104456
DTSTART:20160630T034300
DTEND:20160630T034600
SUMMARY:Netauktion objekt 2419-076 Auktionspåminnelse
DESCRIPTION:Länk till objektet du var intresserad av: https://staging.netauktion.se/auktion/produkt/motionscykel-power-plate
END:VEVENT
END:VCALENDAR
