BEGIN:VCALENDAR
VERSION:2.0
PRODID:-//NetAuktion//NONSGML NetAuktion//SV
METHOD:PUBLISH
BEGIN:VEVENT
UID:20260421T104604-78620841-netauktion.se
DTSTAMP:20260421T104604
DTSTART:20160630T034400
DTEND:20160630T034700
SUMMARY:Netauktion objekt 2419-077 Auktionspåminnelse
DESCRIPTION:Länk till objektet du var intresserad av: https://staging.netauktion.se/auktion/produkt/motionscykel-power-plate-5
END:VEVENT
END:VCALENDAR
