BEGIN:VCALENDAR
VERSION:2.0
PRODID:-//NetAuktion//NONSGML NetAuktion//SV
METHOD:PUBLISH
BEGIN:VEVENT
UID:20260421T104458-23880983-netauktion.se
DTSTAMP:20260421T104458
DTSTART:20160721T011400
DTEND:20160721T011700
SUMMARY:Netauktion objekt 2419-097 Auktionspåminnelse
DESCRIPTION:Länk till objektet du var intresserad av: https://staging.netauktion.se/auktion/produkt/magnetdriven-pump-med-oljekyl-iwaki-2
END:VEVENT
END:VCALENDAR
