BEGIN:VCALENDAR
VERSION:2.0
PRODID:-//NetAuktion//NONSGML NetAuktion//SV
METHOD:PUBLISH
BEGIN:VEVENT
UID:20260421T104623-1697764728-netauktion.se
DTSTAMP:20260421T104623
DTSTART:20160330T013200
DTEND:20160330T013500
SUMMARY:Netauktion objekt 2424-019 Auktionspåminnelse
DESCRIPTION:Länk till objektet du var intresserad av: https://staging.netauktion.se/auktion/produkt/fisktavlor-4st
END:VEVENT
END:VCALENDAR
