BEGIN:VCALENDAR
VERSION:2.0
PRODID:-//NetAuktion//NONSGML NetAuktion//SV
METHOD:PUBLISH
BEGIN:VEVENT
UID:20260421T103135-1747329021-netauktion.se
DTSTAMP:20260421T103135
DTSTART:20160330T013800
DTEND:20160330T014100
SUMMARY:Netauktion objekt 2424-033 Auktionspåminnelse
DESCRIPTION:Länk till objektet du var intresserad av: https://staging.netauktion.se/auktion/produkt/kasthall-matta
END:VEVENT
END:VCALENDAR
