BEGIN:VCALENDAR
VERSION:2.0
PRODID:-//NetAuktion//NONSGML NetAuktion//SV
METHOD:PUBLISH
BEGIN:VEVENT
UID:20260421T104456-1022643618-netauktion.se
DTSTAMP:20260421T104456
DTSTART:20160330T021300
DTEND:20160330T021600
SUMMARY:Netauktion objekt 2520-016 Auktionspåminnelse
DESCRIPTION:Länk till objektet du var intresserad av: https://staging.netauktion.se/auktion/produkt/elinchrom-fotoblixtar-1-par
END:VEVENT
END:VCALENDAR
