BEGIN:VCALENDAR
VERSION:2.0
PRODID:-//NetAuktion//NONSGML NetAuktion//SV
METHOD:PUBLISH
BEGIN:VEVENT
UID:20260421T102933-921991254-netauktion.se
DTSTAMP:20260421T102933
DTSTART:20160330T020500
DTEND:20160330T020800
SUMMARY:Netauktion objekt 2520-018 Auktionspåminnelse
DESCRIPTION:Länk till objektet du var intresserad av: https://staging.netauktion.se/auktion/produkt/portabelt-omkladningsrum
END:VEVENT
END:VCALENDAR
