BEGIN:VCALENDAR
VERSION:2.0
PRODID:-//NetAuktion//NONSGML NetAuktion//SV
METHOD:PUBLISH
BEGIN:VEVENT
UID:20260421T104616-1683324114-netauktion.se
DTSTAMP:20260421T104616
DTSTART:20160531T012000
DTEND:20160531T012300
SUMMARY:Netauktion objekt 2448-065 Auktionspåminnelse
DESCRIPTION:Länk till objektet du var intresserad av: https://staging.netauktion.se/auktion/produkt/tillbehor-till-kassaregister-2
END:VEVENT
END:VCALENDAR
