BEGIN:VCALENDAR
VERSION:2.0
PRODID:-//NetAuktion//NONSGML NetAuktion//SV
METHOD:PUBLISH
BEGIN:VEVENT
UID:20260421T104634-1329969615-netauktion.se
DTSTAMP:20260421T104634
DTSTART:20160330T021900
DTEND:20160330T022200
SUMMARY:Netauktion objekt 2520-020 Auktionspåminnelse
DESCRIPTION:Länk till objektet du var intresserad av: https://staging.netauktion.se/auktion/produkt/stolar-nancy-fran-artwood-1-par-2
END:VEVENT
END:VCALENDAR
