BEGIN:VCALENDAR
VERSION:2.0
PRODID:-//NetAuktion//NONSGML NetAuktion//SV
METHOD:PUBLISH
BEGIN:VEVENT
UID:20260421T103334-1706149668-netauktion.se
DTSTAMP:20260421T103334
DTSTART:20160330T032100
DTEND:20160330T032400
SUMMARY:Netauktion objekt 2481-024 Auktionspåminnelse
DESCRIPTION:Länk till objektet du var intresserad av: https://staging.netauktion.se/auktion/produkt/gravmaskin-take-job-tb260-2013
END:VEVENT
END:VCALENDAR
