BEGIN:VCALENDAR
VERSION:2.0
PRODID:-//NetAuktion//NONSGML NetAuktion//SV
METHOD:PUBLISH
BEGIN:VEVENT
UID:20260421T104455-879695980-netauktion.se
DTSTAMP:20260421T104455
DTSTART:20160426T035300
DTEND:20160426T035600
SUMMARY:Netauktion objekt 2425-068 Auktionspåminnelse
DESCRIPTION:Länk till objektet du var intresserad av: https://staging.netauktion.se/auktion/produkt/3st-skjortor-dickies-xl
END:VEVENT
END:VCALENDAR
