BEGIN:VCALENDAR
VERSION:2.0
PRODID:-//NetAuktion//NONSGML NetAuktion//SV
METHOD:PUBLISH
BEGIN:VEVENT
UID:20260421T104617-1217785823-netauktion.se
DTSTAMP:20260421T104617
DTSTART:20160426T034200
DTEND:20160426T034500
SUMMARY:Netauktion objekt 2425-100 Auktionspåminnelse
DESCRIPTION:Länk till objektet du var intresserad av: https://staging.netauktion.se/auktion/produkt/flanelljacka-s
END:VEVENT
END:VCALENDAR
