BEGIN:VCALENDAR
VERSION:2.0
PRODID:-//NetAuktion//NONSGML NetAuktion//SV
METHOD:PUBLISH
BEGIN:VEVENT
UID:20260421T103006-2054122647-netauktion.se
DTSTAMP:20260421T103006
DTSTART:20160426T033500
DTEND:20160426T033800
SUMMARY:Netauktion objekt 2425-107 Auktionspåminnelse
DESCRIPTION:Länk till objektet du var intresserad av: https://staging.netauktion.se/auktion/produkt/2st-arbetsshorts-38
END:VEVENT
END:VCALENDAR
