BEGIN:VCALENDAR
VERSION:2.0
PRODID:-//NetAuktion//NONSGML NetAuktion//SV
METHOD:PUBLISH
BEGIN:VEVENT
UID:20260421T102952-1252960084-netauktion.se
DTSTAMP:20260421T102952
DTSTART:20160426T033200
DTEND:20160426T033500
SUMMARY:Netauktion objekt 2425-110 Auktionspåminnelse
DESCRIPTION:Länk till objektet du var intresserad av: https://staging.netauktion.se/auktion/produkt/2st-arbetsshorts-36-2
END:VEVENT
END:VCALENDAR
