BEGIN:VCALENDAR
VERSION:2.0
PRODID:-//NetAuktion//NONSGML NetAuktion//SV
METHOD:PUBLISH
BEGIN:VEVENT
UID:20260421T103234-1897974550-netauktion.se
DTSTAMP:20260421T103234
DTSTART:20160426T032600
DTEND:20160426T032900
SUMMARY:Netauktion objekt 2425-116 Auktionspåminnelse
DESCRIPTION:Länk till objektet du var intresserad av: https://staging.netauktion.se/auktion/produkt/2st-skjortor-dickies-xl
END:VEVENT
END:VCALENDAR
