BEGIN:VCALENDAR
VERSION:2.0
PRODID:-//NetAuktion//NONSGML NetAuktion//SV
METHOD:PUBLISH
BEGIN:VEVENT
UID:20260421T104620-468626467-netauktion.se
DTSTAMP:20260421T104620
DTSTART:20160426T032500
DTEND:20160426T032800
SUMMARY:Netauktion objekt 2425-117 Auktionspåminnelse
DESCRIPTION:Länk till objektet du var intresserad av: https://staging.netauktion.se/auktion/produkt/2st-skjortor-dickies-xl-2
END:VEVENT
END:VCALENDAR
