BEGIN:VCALENDAR
VERSION:2.0
PRODID:-//NetAuktion//NONSGML NetAuktion//SV
METHOD:PUBLISH
BEGIN:VEVENT
UID:20260421T103136-276743142-netauktion.se
DTSTAMP:20260421T103136
DTSTART:20170224T041600
DTEND:20170224T041900
SUMMARY:Netauktion objekt 2595-010 Auktionspåminnelse
DESCRIPTION:Länk till objektet du var intresserad av: https://staging.netauktion.se/auktion/produkt/oljemalning-pa-tra-hastmotiv-2
END:VEVENT
END:VCALENDAR
