BEGIN:VCALENDAR
VERSION:2.0
PRODID:-//NetAuktion//NONSGML NetAuktion//SV
METHOD:PUBLISH
BEGIN:VEVENT
UID:20260425T123612-1587366692-netauktion.se
DTSTAMP:20260425T123612
DTSTART:20160719T011800
DTEND:20160719T012100
SUMMARY:Netauktion objekt 2590-088 Auktionspåminnelse
DESCRIPTION:Länk till objektet du var intresserad av: https://staging.netauktion.se/auktion/produkt/eleganta-boots-strl-35-5
END:VEVENT
END:VCALENDAR
