BEGIN:VCALENDAR
VERSION:2.0
PRODID:-//NetAuktion//NONSGML NetAuktion//SV
METHOD:PUBLISH
BEGIN:VEVENT
UID:20260421T104430-255024890-netauktion.se
DTSTAMP:20260421T104430
DTSTART:20160427T020700
DTEND:20160427T021000
SUMMARY:Netauktion objekt 2598-006 Auktionspåminnelse
DESCRIPTION:Länk till objektet du var intresserad av: https://staging.netauktion.se/auktion/produkt/4-st-vinterhjul-pa-falg
END:VEVENT
END:VCALENDAR
