BEGIN:VCALENDAR
VERSION:2.0
PRODID:-//NetAuktion//NONSGML NetAuktion//SV
METHOD:PUBLISH
BEGIN:VEVENT
UID:20260421T103033-974367701-netauktion.se
DTSTAMP:20260421T103033
DTSTART:20160427T020300
DTEND:20160427T020600
SUMMARY:Netauktion objekt 2598-008 Auktionspåminnelse
DESCRIPTION:Länk till objektet du var intresserad av: https://staging.netauktion.se/auktion/produkt/4-st-sommardack-utan-falg
END:VEVENT
END:VCALENDAR
