BEGIN:VCALENDAR
VERSION:2.0
PRODID:-//NetAuktion//NONSGML NetAuktion//SV
METHOD:PUBLISH
BEGIN:VEVENT
UID:20260425T124616-1162152779-netauktion.se
DTSTAMP:20260425T124616
DTSTART:20160915T035800
DTEND:20160915T040100
SUMMARY:Netauktion objekt 2590-143 Auktionspåminnelse
DESCRIPTION:Länk till objektet du var intresserad av: https://staging.netauktion.se/auktion/produkt/eleganta-boots-strl-26-3
END:VEVENT
END:VCALENDAR
