BEGIN:VCALENDAR
VERSION:2.0
PRODID:-//NetAuktion//NONSGML NetAuktion//SV
METHOD:PUBLISH
BEGIN:VEVENT
UID:20260425T134453-1300862971-netauktion.se
DTSTAMP:20260425T134453
DTSTART:20160915T035900
DTEND:20160915T040200
SUMMARY:Netauktion objekt 2590-146 Auktionspåminnelse
DESCRIPTION:Länk till objektet du var intresserad av: https://staging.netauktion.se/auktion/produkt/eleganta-boots-strl-25-2
END:VEVENT
END:VCALENDAR
